BEGIN:VCALENDAR
VERSION:2.0
PRODID:-//ST. LUKE LUTHERAN CHURCH - ECPv6.15.20//NONSGML v1.0//EN
CALSCALE:GREGORIAN
METHOD:PUBLISH
X-WR-CALNAME:ST. LUKE LUTHERAN CHURCH
X-ORIGINAL-URL:https://stlukesway.org
X-WR-CALDESC:Events for ST. LUKE LUTHERAN CHURCH
REFRESH-INTERVAL;VALUE=DURATION:PT1H
X-Robots-Tag:noindex
X-PUBLISHED-TTL:PT1H
BEGIN:VTIMEZONE
TZID:America/New_York
BEGIN:DAYLIGHT
TZOFFSETFROM:-0500
TZOFFSETTO:-0400
TZNAME:EDT
DTSTART:20270314T070000
END:DAYLIGHT
BEGIN:STANDARD
TZOFFSETFROM:-0400
TZOFFSETTO:-0500
TZNAME:EST
DTSTART:20271107T060000
END:STANDARD
BEGIN:DAYLIGHT
TZOFFSETFROM:-0500
TZOFFSETTO:-0400
TZNAME:EDT
DTSTART:20280312T070000
END:DAYLIGHT
BEGIN:STANDARD
TZOFFSETFROM:-0400
TZOFFSETTO:-0500
TZNAME:EST
DTSTART:20281105T060000
END:STANDARD
BEGIN:DAYLIGHT
TZOFFSETFROM:-0500
TZOFFSETTO:-0400
TZNAME:EDT
DTSTART:20290311T070000
END:DAYLIGHT
BEGIN:STANDARD
TZOFFSETFROM:-0400
TZOFFSETTO:-0500
TZNAME:EST
DTSTART:20291104T060000
END:STANDARD
END:VTIMEZONE
BEGIN:VEVENT
DTSTART;TZID=America/New_York:20281101T183000
DTEND;TZID=America/New_York:20281101T200000
DTSTAMP:20260423T153609
CREATED:20240425T235823Z
LAST-MODIFIED:20251016T141858Z
UID:10001680-1856716200-1856721600@stlukesway.org
SUMMARY:Magnified Melodies
DESCRIPTION:Magnified Melodies meet weekly for practice
URL:https://stlukesway.org/event/magnified-melodies-3/2028-11-01/
END:VEVENT
BEGIN:VEVENT
DTSTART;TZID=America/New_York:20281107T180000
DTEND;TZID=America/New_York:20281107T190000
DTSTAMP:20260423T153609
CREATED:20240425T235959Z
LAST-MODIFIED:20251016T141858Z
UID:10001942-1857232800-1857236400@stlukesway.org
SUMMARY:Adult Choir Practice
DESCRIPTION:Our Adult Choir Practice is weekly
URL:https://stlukesway.org/event/adult-choir-practice-3/2028-11-07/
END:VEVENT
BEGIN:VEVENT
DTSTART;TZID=America/New_York:20281107T190000
DTEND;TZID=America/New_York:20281107T200000
DTSTAMP:20260423T153609
CREATED:20240426T000122Z
LAST-MODIFIED:20251016T141857Z
UID:10002203-1857236400-1857240000@stlukesway.org
SUMMARY:Bell Choir Practice
DESCRIPTION:Every week Bell Choir Practice is held at 7 pm
URL:https://stlukesway.org/event/bell-choir-practice-3/2028-11-07/
END:VEVENT
BEGIN:VEVENT
DTSTART;TZID=America/New_York:20281108T183000
DTEND;TZID=America/New_York:20281108T200000
DTSTAMP:20260423T153609
CREATED:20240425T235823Z
LAST-MODIFIED:20251016T141858Z
UID:10001681-1857321000-1857326400@stlukesway.org
SUMMARY:Magnified Melodies
DESCRIPTION:Magnified Melodies meet weekly for practice
URL:https://stlukesway.org/event/magnified-melodies-3/2028-11-08/
END:VEVENT
BEGIN:VEVENT
DTSTART;TZID=America/New_York:20281114T180000
DTEND;TZID=America/New_York:20281114T190000
DTSTAMP:20260423T153609
CREATED:20240425T235959Z
LAST-MODIFIED:20251016T141858Z
UID:10001943-1857837600-1857841200@stlukesway.org
SUMMARY:Adult Choir Practice
DESCRIPTION:Our Adult Choir Practice is weekly
URL:https://stlukesway.org/event/adult-choir-practice-3/2028-11-14/
END:VEVENT
BEGIN:VEVENT
DTSTART;TZID=America/New_York:20281114T190000
DTEND;TZID=America/New_York:20281114T200000
DTSTAMP:20260423T153609
CREATED:20240426T000122Z
LAST-MODIFIED:20251016T141857Z
UID:10002204-1857841200-1857844800@stlukesway.org
SUMMARY:Bell Choir Practice
DESCRIPTION:Every week Bell Choir Practice is held at 7 pm
URL:https://stlukesway.org/event/bell-choir-practice-3/2028-11-14/
END:VEVENT
BEGIN:VEVENT
DTSTART;TZID=America/New_York:20281115T183000
DTEND;TZID=America/New_York:20281115T200000
DTSTAMP:20260423T153609
CREATED:20240425T235823Z
LAST-MODIFIED:20251016T141858Z
UID:10001682-1857925800-1857931200@stlukesway.org
SUMMARY:Magnified Melodies
DESCRIPTION:Magnified Melodies meet weekly for practice
URL:https://stlukesway.org/event/magnified-melodies-3/2028-11-15/
END:VEVENT
BEGIN:VEVENT
DTSTART;TZID=America/New_York:20281121T180000
DTEND;TZID=America/New_York:20281121T190000
DTSTAMP:20260423T153609
CREATED:20240425T235959Z
LAST-MODIFIED:20251016T141858Z
UID:10001944-1858442400-1858446000@stlukesway.org
SUMMARY:Adult Choir Practice
DESCRIPTION:Our Adult Choir Practice is weekly
URL:https://stlukesway.org/event/adult-choir-practice-3/2028-11-21/
END:VEVENT
BEGIN:VEVENT
DTSTART;TZID=America/New_York:20281121T190000
DTEND;TZID=America/New_York:20281121T200000
DTSTAMP:20260423T153609
CREATED:20240426T000122Z
LAST-MODIFIED:20251016T141857Z
UID:10002205-1858446000-1858449600@stlukesway.org
SUMMARY:Bell Choir Practice
DESCRIPTION:Every week Bell Choir Practice is held at 7 pm
URL:https://stlukesway.org/event/bell-choir-practice-3/2028-11-21/
END:VEVENT
BEGIN:VEVENT
DTSTART;TZID=America/New_York:20281122T183000
DTEND;TZID=America/New_York:20281122T200000
DTSTAMP:20260423T153609
CREATED:20240425T235823Z
LAST-MODIFIED:20251016T141858Z
UID:10001683-1858530600-1858536000@stlukesway.org
SUMMARY:Magnified Melodies
DESCRIPTION:Magnified Melodies meet weekly for practice
URL:https://stlukesway.org/event/magnified-melodies-3/2028-11-22/
END:VEVENT
BEGIN:VEVENT
DTSTART;TZID=America/New_York:20281128T180000
DTEND;TZID=America/New_York:20281128T190000
DTSTAMP:20260423T153609
CREATED:20240425T235959Z
LAST-MODIFIED:20251016T141858Z
UID:10001945-1859047200-1859050800@stlukesway.org
SUMMARY:Adult Choir Practice
DESCRIPTION:Our Adult Choir Practice is weekly
URL:https://stlukesway.org/event/adult-choir-practice-3/2028-11-28/
END:VEVENT
BEGIN:VEVENT
DTSTART;TZID=America/New_York:20281128T190000
DTEND;TZID=America/New_York:20281128T200000
DTSTAMP:20260423T153609
CREATED:20240426T000122Z
LAST-MODIFIED:20251016T141857Z
UID:10002206-1859050800-1859054400@stlukesway.org
SUMMARY:Bell Choir Practice
DESCRIPTION:Every week Bell Choir Practice is held at 7 pm
URL:https://stlukesway.org/event/bell-choir-practice-3/2028-11-28/
END:VEVENT
BEGIN:VEVENT
DTSTART;TZID=America/New_York:20281129T183000
DTEND;TZID=America/New_York:20281129T200000
DTSTAMP:20260423T153609
CREATED:20240425T235823Z
LAST-MODIFIED:20251016T141858Z
UID:10001684-1859135400-1859140800@stlukesway.org
SUMMARY:Magnified Melodies
DESCRIPTION:Magnified Melodies meet weekly for practice
URL:https://stlukesway.org/event/magnified-melodies-3/2028-11-29/
END:VEVENT
END:VCALENDAR