BEGIN:VCALENDAR
VERSION:2.0
PRODID:-//ST. LUKE LUTHERAN CHURCH - ECPv6.15.20//NONSGML v1.0//EN
CALSCALE:GREGORIAN
METHOD:PUBLISH
X-ORIGINAL-URL:https://stlukesway.org
X-WR-CALDESC:Events for ST. LUKE LUTHERAN CHURCH
REFRESH-INTERVAL;VALUE=DURATION:PT1H
X-Robots-Tag:noindex
X-PUBLISHED-TTL:PT1H
BEGIN:VTIMEZONE
TZID:America/New_York
BEGIN:DAYLIGHT
TZOFFSETFROM:-0500
TZOFFSETTO:-0400
TZNAME:EDT
DTSTART:20270314T070000
END:DAYLIGHT
BEGIN:STANDARD
TZOFFSETFROM:-0400
TZOFFSETTO:-0500
TZNAME:EST
DTSTART:20271107T060000
END:STANDARD
BEGIN:DAYLIGHT
TZOFFSETFROM:-0500
TZOFFSETTO:-0400
TZNAME:EDT
DTSTART:20280312T070000
END:DAYLIGHT
BEGIN:STANDARD
TZOFFSETFROM:-0400
TZOFFSETTO:-0500
TZNAME:EST
DTSTART:20281105T060000
END:STANDARD
BEGIN:DAYLIGHT
TZOFFSETFROM:-0500
TZOFFSETTO:-0400
TZNAME:EDT
DTSTART:20290311T070000
END:DAYLIGHT
BEGIN:STANDARD
TZOFFSETFROM:-0400
TZOFFSETTO:-0500
TZNAME:EST
DTSTART:20291104T060000
END:STANDARD
END:VTIMEZONE
BEGIN:VEVENT
DTSTART;TZID=America/New_York:20280905T180000
DTEND;TZID=America/New_York:20280905T190000
DTSTAMP:20260423T130305
CREATED:20240425T235959Z
LAST-MODIFIED:20251016T141858Z
UID:10001933-1851789600-1851793200@stlukesway.org
SUMMARY:Adult Choir Practice
DESCRIPTION:Our Adult Choir Practice is weekly
URL:https://stlukesway.org/event/adult-choir-practice-3/2028-09-05/
END:VEVENT
BEGIN:VEVENT
DTSTART;TZID=America/New_York:20280905T190000
DTEND;TZID=America/New_York:20280905T200000
DTSTAMP:20260423T130305
CREATED:20240426T000122Z
LAST-MODIFIED:20251016T141857Z
UID:10002194-1851793200-1851796800@stlukesway.org
SUMMARY:Bell Choir Practice
DESCRIPTION:Every week Bell Choir Practice is held at 7 pm
URL:https://stlukesway.org/event/bell-choir-practice-3/2028-09-05/
END:VEVENT
BEGIN:VEVENT
DTSTART;TZID=America/New_York:20280906T183000
DTEND;TZID=America/New_York:20280906T200000
DTSTAMP:20260423T130305
CREATED:20240425T235823Z
LAST-MODIFIED:20251016T141858Z
UID:10001672-1851877800-1851883200@stlukesway.org
SUMMARY:Magnified Melodies
DESCRIPTION:Magnified Melodies meet weekly for practice
URL:https://stlukesway.org/event/magnified-melodies-3/2028-09-06/
END:VEVENT
BEGIN:VEVENT
DTSTART;TZID=America/New_York:20280912T180000
DTEND;TZID=America/New_York:20280912T190000
DTSTAMP:20260423T130305
CREATED:20240425T235959Z
LAST-MODIFIED:20251016T141858Z
UID:10001934-1852394400-1852398000@stlukesway.org
SUMMARY:Adult Choir Practice
DESCRIPTION:Our Adult Choir Practice is weekly
URL:https://stlukesway.org/event/adult-choir-practice-3/2028-09-12/
END:VEVENT
BEGIN:VEVENT
DTSTART;TZID=America/New_York:20280912T190000
DTEND;TZID=America/New_York:20280912T200000
DTSTAMP:20260423T130305
CREATED:20240426T000122Z
LAST-MODIFIED:20251016T141857Z
UID:10002195-1852398000-1852401600@stlukesway.org
SUMMARY:Bell Choir Practice
DESCRIPTION:Every week Bell Choir Practice is held at 7 pm
URL:https://stlukesway.org/event/bell-choir-practice-3/2028-09-12/
END:VEVENT
BEGIN:VEVENT
DTSTART;TZID=America/New_York:20280913T183000
DTEND;TZID=America/New_York:20280913T200000
DTSTAMP:20260423T130305
CREATED:20240425T235823Z
LAST-MODIFIED:20251016T141858Z
UID:10001673-1852482600-1852488000@stlukesway.org
SUMMARY:Magnified Melodies
DESCRIPTION:Magnified Melodies meet weekly for practice
URL:https://stlukesway.org/event/magnified-melodies-3/2028-09-13/
END:VEVENT
BEGIN:VEVENT
DTSTART;TZID=America/New_York:20280919T180000
DTEND;TZID=America/New_York:20280919T190000
DTSTAMP:20260423T130305
CREATED:20240425T235959Z
LAST-MODIFIED:20251016T141858Z
UID:10001935-1852999200-1853002800@stlukesway.org
SUMMARY:Adult Choir Practice
DESCRIPTION:Our Adult Choir Practice is weekly
URL:https://stlukesway.org/event/adult-choir-practice-3/2028-09-19/
END:VEVENT
BEGIN:VEVENT
DTSTART;TZID=America/New_York:20280919T190000
DTEND;TZID=America/New_York:20280919T200000
DTSTAMP:20260423T130305
CREATED:20240426T000122Z
LAST-MODIFIED:20251016T141857Z
UID:10002196-1853002800-1853006400@stlukesway.org
SUMMARY:Bell Choir Practice
DESCRIPTION:Every week Bell Choir Practice is held at 7 pm
URL:https://stlukesway.org/event/bell-choir-practice-3/2028-09-19/
END:VEVENT
BEGIN:VEVENT
DTSTART;TZID=America/New_York:20280920T183000
DTEND;TZID=America/New_York:20280920T200000
DTSTAMP:20260423T130305
CREATED:20240425T235823Z
LAST-MODIFIED:20251016T141858Z
UID:10001674-1853087400-1853092800@stlukesway.org
SUMMARY:Magnified Melodies
DESCRIPTION:Magnified Melodies meet weekly for practice
URL:https://stlukesway.org/event/magnified-melodies-3/2028-09-20/
END:VEVENT
BEGIN:VEVENT
DTSTART;TZID=America/New_York:20280926T180000
DTEND;TZID=America/New_York:20280926T190000
DTSTAMP:20260423T130305
CREATED:20240425T235959Z
LAST-MODIFIED:20251016T141858Z
UID:10001936-1853604000-1853607600@stlukesway.org
SUMMARY:Adult Choir Practice
DESCRIPTION:Our Adult Choir Practice is weekly
URL:https://stlukesway.org/event/adult-choir-practice-3/2028-09-26/
END:VEVENT
BEGIN:VEVENT
DTSTART;TZID=America/New_York:20280926T190000
DTEND;TZID=America/New_York:20280926T200000
DTSTAMP:20260423T130305
CREATED:20240426T000122Z
LAST-MODIFIED:20251016T141857Z
UID:10002197-1853607600-1853611200@stlukesway.org
SUMMARY:Bell Choir Practice
DESCRIPTION:Every week Bell Choir Practice is held at 7 pm
URL:https://stlukesway.org/event/bell-choir-practice-3/2028-09-26/
END:VEVENT
BEGIN:VEVENT
DTSTART;TZID=America/New_York:20280927T183000
DTEND;TZID=America/New_York:20280927T200000
DTSTAMP:20260423T130305
CREATED:20240425T235823Z
LAST-MODIFIED:20251016T141858Z
UID:10001675-1853692200-1853697600@stlukesway.org
SUMMARY:Magnified Melodies
DESCRIPTION:Magnified Melodies meet weekly for practice
URL:https://stlukesway.org/event/magnified-melodies-3/2028-09-27/
END:VEVENT
END:VCALENDAR