BEGIN:VCALENDAR
VERSION:2.0
PRODID:-//ST. LUKE LUTHERAN CHURCH - ECPv6.15.20//NONSGML v1.0//EN
CALSCALE:GREGORIAN
METHOD:PUBLISH
X-WR-CALNAME:ST. LUKE LUTHERAN CHURCH
X-ORIGINAL-URL:https://stlukesway.org
X-WR-CALDESC:Events for ST. LUKE LUTHERAN CHURCH
REFRESH-INTERVAL;VALUE=DURATION:PT1H
X-Robots-Tag:noindex
X-PUBLISHED-TTL:PT1H
BEGIN:VTIMEZONE
TZID:America/New_York
BEGIN:DAYLIGHT
TZOFFSETFROM:-0500
TZOFFSETTO:-0400
TZNAME:EDT
DTSTART:20270314T070000
END:DAYLIGHT
BEGIN:STANDARD
TZOFFSETFROM:-0400
TZOFFSETTO:-0500
TZNAME:EST
DTSTART:20271107T060000
END:STANDARD
BEGIN:DAYLIGHT
TZOFFSETFROM:-0500
TZOFFSETTO:-0400
TZNAME:EDT
DTSTART:20280312T070000
END:DAYLIGHT
BEGIN:STANDARD
TZOFFSETFROM:-0400
TZOFFSETTO:-0500
TZNAME:EST
DTSTART:20281105T060000
END:STANDARD
BEGIN:DAYLIGHT
TZOFFSETFROM:-0500
TZOFFSETTO:-0400
TZNAME:EDT
DTSTART:20290311T070000
END:DAYLIGHT
BEGIN:STANDARD
TZOFFSETFROM:-0400
TZOFFSETTO:-0500
TZNAME:EST
DTSTART:20291104T060000
END:STANDARD
END:VTIMEZONE
BEGIN:VEVENT
DTSTART;TZID=America/New_York:20280404T180000
DTEND;TZID=America/New_York:20280404T190000
DTSTAMP:20260423T053914
CREATED:20240425T235959Z
LAST-MODIFIED:20251016T141858Z
UID:10001911-1838484000-1838487600@stlukesway.org
SUMMARY:Adult Choir Practice
DESCRIPTION:Our Adult Choir Practice is weekly
URL:https://stlukesway.org/event/adult-choir-practice-3/2028-04-04/
END:VEVENT
BEGIN:VEVENT
DTSTART;TZID=America/New_York:20280404T190000
DTEND;TZID=America/New_York:20280404T200000
DTSTAMP:20260423T053914
CREATED:20240426T000122Z
LAST-MODIFIED:20251016T141857Z
UID:10002172-1838487600-1838491200@stlukesway.org
SUMMARY:Bell Choir Practice
DESCRIPTION:Every week Bell Choir Practice is held at 7 pm
URL:https://stlukesway.org/event/bell-choir-practice-3/2028-04-04/
END:VEVENT
BEGIN:VEVENT
DTSTART;TZID=America/New_York:20280405T183000
DTEND;TZID=America/New_York:20280405T200000
DTSTAMP:20260423T053914
CREATED:20240425T235823Z
LAST-MODIFIED:20251016T141858Z
UID:10001650-1838572200-1838577600@stlukesway.org
SUMMARY:Magnified Melodies
DESCRIPTION:Magnified Melodies meet weekly for practice
URL:https://stlukesway.org/event/magnified-melodies-3/2028-04-05/
END:VEVENT
BEGIN:VEVENT
DTSTART;TZID=America/New_York:20280411T180000
DTEND;TZID=America/New_York:20280411T190000
DTSTAMP:20260423T053914
CREATED:20240425T235959Z
LAST-MODIFIED:20251016T141858Z
UID:10001912-1839088800-1839092400@stlukesway.org
SUMMARY:Adult Choir Practice
DESCRIPTION:Our Adult Choir Practice is weekly
URL:https://stlukesway.org/event/adult-choir-practice-3/2028-04-11/
END:VEVENT
BEGIN:VEVENT
DTSTART;TZID=America/New_York:20280411T190000
DTEND;TZID=America/New_York:20280411T200000
DTSTAMP:20260423T053914
CREATED:20240426T000122Z
LAST-MODIFIED:20251016T141857Z
UID:10002173-1839092400-1839096000@stlukesway.org
SUMMARY:Bell Choir Practice
DESCRIPTION:Every week Bell Choir Practice is held at 7 pm
URL:https://stlukesway.org/event/bell-choir-practice-3/2028-04-11/
END:VEVENT
BEGIN:VEVENT
DTSTART;TZID=America/New_York:20280412T183000
DTEND;TZID=America/New_York:20280412T200000
DTSTAMP:20260423T053914
CREATED:20240425T235823Z
LAST-MODIFIED:20251016T141858Z
UID:10001651-1839177000-1839182400@stlukesway.org
SUMMARY:Magnified Melodies
DESCRIPTION:Magnified Melodies meet weekly for practice
URL:https://stlukesway.org/event/magnified-melodies-3/2028-04-12/
END:VEVENT
BEGIN:VEVENT
DTSTART;TZID=America/New_York:20280418T180000
DTEND;TZID=America/New_York:20280418T190000
DTSTAMP:20260423T053914
CREATED:20240425T235959Z
LAST-MODIFIED:20251016T141858Z
UID:10001913-1839693600-1839697200@stlukesway.org
SUMMARY:Adult Choir Practice
DESCRIPTION:Our Adult Choir Practice is weekly
URL:https://stlukesway.org/event/adult-choir-practice-3/2028-04-18/
END:VEVENT
BEGIN:VEVENT
DTSTART;TZID=America/New_York:20280418T190000
DTEND;TZID=America/New_York:20280418T200000
DTSTAMP:20260423T053914
CREATED:20240426T000122Z
LAST-MODIFIED:20251016T141857Z
UID:10002174-1839697200-1839700800@stlukesway.org
SUMMARY:Bell Choir Practice
DESCRIPTION:Every week Bell Choir Practice is held at 7 pm
URL:https://stlukesway.org/event/bell-choir-practice-3/2028-04-18/
END:VEVENT
BEGIN:VEVENT
DTSTART;TZID=America/New_York:20280419T183000
DTEND;TZID=America/New_York:20280419T200000
DTSTAMP:20260423T053914
CREATED:20240425T235823Z
LAST-MODIFIED:20251016T141858Z
UID:10001652-1839781800-1839787200@stlukesway.org
SUMMARY:Magnified Melodies
DESCRIPTION:Magnified Melodies meet weekly for practice
URL:https://stlukesway.org/event/magnified-melodies-3/2028-04-19/
END:VEVENT
BEGIN:VEVENT
DTSTART;TZID=America/New_York:20280425T180000
DTEND;TZID=America/New_York:20280425T190000
DTSTAMP:20260423T053914
CREATED:20240425T235959Z
LAST-MODIFIED:20251016T141858Z
UID:10001914-1840298400-1840302000@stlukesway.org
SUMMARY:Adult Choir Practice
DESCRIPTION:Our Adult Choir Practice is weekly
URL:https://stlukesway.org/event/adult-choir-practice-3/2028-04-25/
END:VEVENT
BEGIN:VEVENT
DTSTART;TZID=America/New_York:20280425T190000
DTEND;TZID=America/New_York:20280425T200000
DTSTAMP:20260423T053914
CREATED:20240426T000122Z
LAST-MODIFIED:20251016T141857Z
UID:10002175-1840302000-1840305600@stlukesway.org
SUMMARY:Bell Choir Practice
DESCRIPTION:Every week Bell Choir Practice is held at 7 pm
URL:https://stlukesway.org/event/bell-choir-practice-3/2028-04-25/
END:VEVENT
BEGIN:VEVENT
DTSTART;TZID=America/New_York:20280426T183000
DTEND;TZID=America/New_York:20280426T200000
DTSTAMP:20260423T053914
CREATED:20240425T235823Z
LAST-MODIFIED:20251016T141858Z
UID:10001653-1840386600-1840392000@stlukesway.org
SUMMARY:Magnified Melodies
DESCRIPTION:Magnified Melodies meet weekly for practice
URL:https://stlukesway.org/event/magnified-melodies-3/2028-04-26/
END:VEVENT
END:VCALENDAR