BEGIN:VCALENDAR
VERSION:2.0
PRODID:-//ST. LUKE LUTHERAN CHURCH - ECPv6.15.20//NONSGML v1.0//EN
CALSCALE:GREGORIAN
METHOD:PUBLISH
X-WR-CALNAME:ST. LUKE LUTHERAN CHURCH
X-ORIGINAL-URL:https://stlukesway.org
X-WR-CALDESC:Events for ST. LUKE LUTHERAN CHURCH
REFRESH-INTERVAL;VALUE=DURATION:PT1H
X-Robots-Tag:noindex
X-PUBLISHED-TTL:PT1H
BEGIN:VTIMEZONE
TZID:America/New_York
BEGIN:DAYLIGHT
TZOFFSETFROM:-0500
TZOFFSETTO:-0400
TZNAME:EDT
DTSTART:20270314T070000
END:DAYLIGHT
BEGIN:STANDARD
TZOFFSETFROM:-0400
TZOFFSETTO:-0500
TZNAME:EST
DTSTART:20271107T060000
END:STANDARD
BEGIN:DAYLIGHT
TZOFFSETFROM:-0500
TZOFFSETTO:-0400
TZNAME:EDT
DTSTART:20280312T070000
END:DAYLIGHT
BEGIN:STANDARD
TZOFFSETFROM:-0400
TZOFFSETTO:-0500
TZNAME:EST
DTSTART:20281105T060000
END:STANDARD
BEGIN:DAYLIGHT
TZOFFSETFROM:-0500
TZOFFSETTO:-0400
TZNAME:EDT
DTSTART:20290311T070000
END:DAYLIGHT
BEGIN:STANDARD
TZOFFSETFROM:-0400
TZOFFSETTO:-0500
TZNAME:EST
DTSTART:20291104T060000
END:STANDARD
END:VTIMEZONE
BEGIN:VEVENT
DTSTART;TZID=America/New_York:20280301T183000
DTEND;TZID=America/New_York:20280301T200000
DTSTAMP:20260423T042845
CREATED:20240425T235823Z
LAST-MODIFIED:20251016T141858Z
UID:10001645-1835548200-1835553600@stlukesway.org
SUMMARY:Magnified Melodies
DESCRIPTION:Magnified Melodies meet weekly for practice
URL:https://stlukesway.org/event/magnified-melodies-3/2028-03-01/
END:VEVENT
BEGIN:VEVENT
DTSTART;TZID=America/New_York:20280307T180000
DTEND;TZID=America/New_York:20280307T190000
DTSTAMP:20260423T042845
CREATED:20240425T235959Z
LAST-MODIFIED:20251016T141858Z
UID:10001907-1836064800-1836068400@stlukesway.org
SUMMARY:Adult Choir Practice
DESCRIPTION:Our Adult Choir Practice is weekly
URL:https://stlukesway.org/event/adult-choir-practice-3/2028-03-07/
END:VEVENT
BEGIN:VEVENT
DTSTART;TZID=America/New_York:20280307T190000
DTEND;TZID=America/New_York:20280307T200000
DTSTAMP:20260423T042845
CREATED:20240426T000122Z
LAST-MODIFIED:20251016T141857Z
UID:10002168-1836068400-1836072000@stlukesway.org
SUMMARY:Bell Choir Practice
DESCRIPTION:Every week Bell Choir Practice is held at 7 pm
URL:https://stlukesway.org/event/bell-choir-practice-3/2028-03-07/
END:VEVENT
BEGIN:VEVENT
DTSTART;TZID=America/New_York:20280308T183000
DTEND;TZID=America/New_York:20280308T200000
DTSTAMP:20260423T042845
CREATED:20240425T235823Z
LAST-MODIFIED:20251016T141858Z
UID:10001646-1836153000-1836158400@stlukesway.org
SUMMARY:Magnified Melodies
DESCRIPTION:Magnified Melodies meet weekly for practice
URL:https://stlukesway.org/event/magnified-melodies-3/2028-03-08/
END:VEVENT
BEGIN:VEVENT
DTSTART;TZID=America/New_York:20280314T180000
DTEND;TZID=America/New_York:20280314T190000
DTSTAMP:20260423T042845
CREATED:20240425T235959Z
LAST-MODIFIED:20251016T141858Z
UID:10001908-1836669600-1836673200@stlukesway.org
SUMMARY:Adult Choir Practice
DESCRIPTION:Our Adult Choir Practice is weekly
URL:https://stlukesway.org/event/adult-choir-practice-3/2028-03-14/
END:VEVENT
BEGIN:VEVENT
DTSTART;TZID=America/New_York:20280314T190000
DTEND;TZID=America/New_York:20280314T200000
DTSTAMP:20260423T042845
CREATED:20240426T000122Z
LAST-MODIFIED:20251016T141857Z
UID:10002169-1836673200-1836676800@stlukesway.org
SUMMARY:Bell Choir Practice
DESCRIPTION:Every week Bell Choir Practice is held at 7 pm
URL:https://stlukesway.org/event/bell-choir-practice-3/2028-03-14/
END:VEVENT
BEGIN:VEVENT
DTSTART;TZID=America/New_York:20280315T183000
DTEND;TZID=America/New_York:20280315T200000
DTSTAMP:20260423T042845
CREATED:20240425T235823Z
LAST-MODIFIED:20251016T141858Z
UID:10001647-1836757800-1836763200@stlukesway.org
SUMMARY:Magnified Melodies
DESCRIPTION:Magnified Melodies meet weekly for practice
URL:https://stlukesway.org/event/magnified-melodies-3/2028-03-15/
END:VEVENT
BEGIN:VEVENT
DTSTART;TZID=America/New_York:20280321T180000
DTEND;TZID=America/New_York:20280321T190000
DTSTAMP:20260423T042845
CREATED:20240425T235959Z
LAST-MODIFIED:20251016T141858Z
UID:10001909-1837274400-1837278000@stlukesway.org
SUMMARY:Adult Choir Practice
DESCRIPTION:Our Adult Choir Practice is weekly
URL:https://stlukesway.org/event/adult-choir-practice-3/2028-03-21/
END:VEVENT
BEGIN:VEVENT
DTSTART;TZID=America/New_York:20280321T190000
DTEND;TZID=America/New_York:20280321T200000
DTSTAMP:20260423T042845
CREATED:20240426T000122Z
LAST-MODIFIED:20251016T141857Z
UID:10002170-1837278000-1837281600@stlukesway.org
SUMMARY:Bell Choir Practice
DESCRIPTION:Every week Bell Choir Practice is held at 7 pm
URL:https://stlukesway.org/event/bell-choir-practice-3/2028-03-21/
END:VEVENT
BEGIN:VEVENT
DTSTART;TZID=America/New_York:20280322T183000
DTEND;TZID=America/New_York:20280322T200000
DTSTAMP:20260423T042845
CREATED:20240425T235823Z
LAST-MODIFIED:20251016T141858Z
UID:10001648-1837362600-1837368000@stlukesway.org
SUMMARY:Magnified Melodies
DESCRIPTION:Magnified Melodies meet weekly for practice
URL:https://stlukesway.org/event/magnified-melodies-3/2028-03-22/
END:VEVENT
BEGIN:VEVENT
DTSTART;TZID=America/New_York:20280328T180000
DTEND;TZID=America/New_York:20280328T190000
DTSTAMP:20260423T042845
CREATED:20240425T235959Z
LAST-MODIFIED:20251016T141858Z
UID:10001910-1837879200-1837882800@stlukesway.org
SUMMARY:Adult Choir Practice
DESCRIPTION:Our Adult Choir Practice is weekly
URL:https://stlukesway.org/event/adult-choir-practice-3/2028-03-28/
END:VEVENT
BEGIN:VEVENT
DTSTART;TZID=America/New_York:20280328T190000
DTEND;TZID=America/New_York:20280328T200000
DTSTAMP:20260423T042846
CREATED:20240426T000122Z
LAST-MODIFIED:20251016T141857Z
UID:10002171-1837882800-1837886400@stlukesway.org
SUMMARY:Bell Choir Practice
DESCRIPTION:Every week Bell Choir Practice is held at 7 pm
URL:https://stlukesway.org/event/bell-choir-practice-3/2028-03-28/
END:VEVENT
BEGIN:VEVENT
DTSTART;TZID=America/New_York:20280329T183000
DTEND;TZID=America/New_York:20280329T200000
DTSTAMP:20260423T042846
CREATED:20240425T235823Z
LAST-MODIFIED:20251016T141858Z
UID:10001649-1837967400-1837972800@stlukesway.org
SUMMARY:Magnified Melodies
DESCRIPTION:Magnified Melodies meet weekly for practice
URL:https://stlukesway.org/event/magnified-melodies-3/2028-03-29/
END:VEVENT
END:VCALENDAR