BEGIN:VCALENDAR
VERSION:2.0
PRODID:-//ST. LUKE LUTHERAN CHURCH - ECPv6.15.20//NONSGML v1.0//EN
CALSCALE:GREGORIAN
METHOD:PUBLISH
X-WR-CALNAME:ST. LUKE LUTHERAN CHURCH
X-ORIGINAL-URL:https://stlukesway.org
X-WR-CALDESC:Events for ST. LUKE LUTHERAN CHURCH
REFRESH-INTERVAL;VALUE=DURATION:PT1H
X-Robots-Tag:noindex
X-PUBLISHED-TTL:PT1H
BEGIN:VTIMEZONE
TZID:America/New_York
BEGIN:DAYLIGHT
TZOFFSETFROM:-0500
TZOFFSETTO:-0400
TZNAME:EDT
DTSTART:20260308T070000
END:DAYLIGHT
BEGIN:STANDARD
TZOFFSETFROM:-0400
TZOFFSETTO:-0500
TZNAME:EST
DTSTART:20261101T060000
END:STANDARD
BEGIN:DAYLIGHT
TZOFFSETFROM:-0500
TZOFFSETTO:-0400
TZNAME:EDT
DTSTART:20270314T070000
END:DAYLIGHT
BEGIN:STANDARD
TZOFFSETFROM:-0400
TZOFFSETTO:-0500
TZNAME:EST
DTSTART:20271107T060000
END:STANDARD
BEGIN:DAYLIGHT
TZOFFSETFROM:-0500
TZOFFSETTO:-0400
TZNAME:EDT
DTSTART:20280312T070000
END:DAYLIGHT
BEGIN:STANDARD
TZOFFSETFROM:-0400
TZOFFSETTO:-0500
TZNAME:EST
DTSTART:20281105T060000
END:STANDARD
END:VTIMEZONE
BEGIN:VEVENT
DTSTART;TZID=America/New_York:20270803T180000
DTEND;TZID=America/New_York:20270803T190000
DTSTAMP:20260422T150005
CREATED:20240425T235959Z
LAST-MODIFIED:20251016T141858Z
UID:10001876-1817316000-1817319600@stlukesway.org
SUMMARY:Adult Choir Practice
DESCRIPTION:Our Adult Choir Practice is weekly
URL:https://stlukesway.org/event/adult-choir-practice-3/2027-08-03/
END:VEVENT
BEGIN:VEVENT
DTSTART;TZID=America/New_York:20270803T190000
DTEND;TZID=America/New_York:20270803T200000
DTSTAMP:20260422T150005
CREATED:20240426T000122Z
LAST-MODIFIED:20251016T141857Z
UID:10002137-1817319600-1817323200@stlukesway.org
SUMMARY:Bell Choir Practice
DESCRIPTION:Every week Bell Choir Practice is held at 7 pm
URL:https://stlukesway.org/event/bell-choir-practice-3/2027-08-03/
END:VEVENT
BEGIN:VEVENT
DTSTART;TZID=America/New_York:20270804T183000
DTEND;TZID=America/New_York:20270804T200000
DTSTAMP:20260422T150005
CREATED:20240425T235823Z
LAST-MODIFIED:20251016T141858Z
UID:10001615-1817404200-1817409600@stlukesway.org
SUMMARY:Magnified Melodies
DESCRIPTION:Magnified Melodies meet weekly for practice
URL:https://stlukesway.org/event/magnified-melodies-3/2027-08-04/
END:VEVENT
BEGIN:VEVENT
DTSTART;TZID=America/New_York:20270810T180000
DTEND;TZID=America/New_York:20270810T190000
DTSTAMP:20260422T150005
CREATED:20240425T235959Z
LAST-MODIFIED:20251016T141858Z
UID:10001877-1817920800-1817924400@stlukesway.org
SUMMARY:Adult Choir Practice
DESCRIPTION:Our Adult Choir Practice is weekly
URL:https://stlukesway.org/event/adult-choir-practice-3/2027-08-10/
END:VEVENT
BEGIN:VEVENT
DTSTART;TZID=America/New_York:20270810T190000
DTEND;TZID=America/New_York:20270810T200000
DTSTAMP:20260422T150005
CREATED:20240426T000122Z
LAST-MODIFIED:20251016T141857Z
UID:10002138-1817924400-1817928000@stlukesway.org
SUMMARY:Bell Choir Practice
DESCRIPTION:Every week Bell Choir Practice is held at 7 pm
URL:https://stlukesway.org/event/bell-choir-practice-3/2027-08-10/
END:VEVENT
BEGIN:VEVENT
DTSTART;TZID=America/New_York:20270811T183000
DTEND;TZID=America/New_York:20270811T200000
DTSTAMP:20260422T150005
CREATED:20240425T235823Z
LAST-MODIFIED:20251016T141858Z
UID:10001616-1818009000-1818014400@stlukesway.org
SUMMARY:Magnified Melodies
DESCRIPTION:Magnified Melodies meet weekly for practice
URL:https://stlukesway.org/event/magnified-melodies-3/2027-08-11/
END:VEVENT
BEGIN:VEVENT
DTSTART;TZID=America/New_York:20270817T180000
DTEND;TZID=America/New_York:20270817T190000
DTSTAMP:20260422T150005
CREATED:20240425T235959Z
LAST-MODIFIED:20251016T141858Z
UID:10001878-1818525600-1818529200@stlukesway.org
SUMMARY:Adult Choir Practice
DESCRIPTION:Our Adult Choir Practice is weekly
URL:https://stlukesway.org/event/adult-choir-practice-3/2027-08-17/
END:VEVENT
BEGIN:VEVENT
DTSTART;TZID=America/New_York:20270817T190000
DTEND;TZID=America/New_York:20270817T200000
DTSTAMP:20260422T150005
CREATED:20240426T000122Z
LAST-MODIFIED:20251016T141857Z
UID:10002139-1818529200-1818532800@stlukesway.org
SUMMARY:Bell Choir Practice
DESCRIPTION:Every week Bell Choir Practice is held at 7 pm
URL:https://stlukesway.org/event/bell-choir-practice-3/2027-08-17/
END:VEVENT
BEGIN:VEVENT
DTSTART;TZID=America/New_York:20270818T183000
DTEND;TZID=America/New_York:20270818T200000
DTSTAMP:20260422T150005
CREATED:20240425T235823Z
LAST-MODIFIED:20251016T141858Z
UID:10001617-1818613800-1818619200@stlukesway.org
SUMMARY:Magnified Melodies
DESCRIPTION:Magnified Melodies meet weekly for practice
URL:https://stlukesway.org/event/magnified-melodies-3/2027-08-18/
END:VEVENT
BEGIN:VEVENT
DTSTART;TZID=America/New_York:20270824T180000
DTEND;TZID=America/New_York:20270824T190000
DTSTAMP:20260422T150005
CREATED:20240425T235959Z
LAST-MODIFIED:20251016T141858Z
UID:10001879-1819130400-1819134000@stlukesway.org
SUMMARY:Adult Choir Practice
DESCRIPTION:Our Adult Choir Practice is weekly
URL:https://stlukesway.org/event/adult-choir-practice-3/2027-08-24/
END:VEVENT
BEGIN:VEVENT
DTSTART;TZID=America/New_York:20270824T190000
DTEND;TZID=America/New_York:20270824T200000
DTSTAMP:20260422T150005
CREATED:20240426T000122Z
LAST-MODIFIED:20251016T141857Z
UID:10002140-1819134000-1819137600@stlukesway.org
SUMMARY:Bell Choir Practice
DESCRIPTION:Every week Bell Choir Practice is held at 7 pm
URL:https://stlukesway.org/event/bell-choir-practice-3/2027-08-24/
END:VEVENT
BEGIN:VEVENT
DTSTART;TZID=America/New_York:20270825T183000
DTEND;TZID=America/New_York:20270825T200000
DTSTAMP:20260422T150005
CREATED:20240425T235823Z
LAST-MODIFIED:20251016T141858Z
UID:10001618-1819218600-1819224000@stlukesway.org
SUMMARY:Magnified Melodies
DESCRIPTION:Magnified Melodies meet weekly for practice
URL:https://stlukesway.org/event/magnified-melodies-3/2027-08-25/
END:VEVENT
BEGIN:VEVENT
DTSTART;TZID=America/New_York:20270831T180000
DTEND;TZID=America/New_York:20270831T190000
DTSTAMP:20260422T150006
CREATED:20240425T235959Z
LAST-MODIFIED:20251016T141858Z
UID:10001880-1819735200-1819738800@stlukesway.org
SUMMARY:Adult Choir Practice
DESCRIPTION:Our Adult Choir Practice is weekly
URL:https://stlukesway.org/event/adult-choir-practice-3/2027-08-31/
END:VEVENT
BEGIN:VEVENT
DTSTART;TZID=America/New_York:20270831T190000
DTEND;TZID=America/New_York:20270831T200000
DTSTAMP:20260422T150006
CREATED:20240426T000122Z
LAST-MODIFIED:20251016T141857Z
UID:10002141-1819738800-1819742400@stlukesway.org
SUMMARY:Bell Choir Practice
DESCRIPTION:Every week Bell Choir Practice is held at 7 pm
URL:https://stlukesway.org/event/bell-choir-practice-3/2027-08-31/
END:VEVENT
END:VCALENDAR