BEGIN:VCALENDAR
VERSION:2.0
PRODID:-//ST. LUKE LUTHERAN CHURCH - ECPv6.15.20//NONSGML v1.0//EN
CALSCALE:GREGORIAN
METHOD:PUBLISH
X-WR-CALNAME:ST. LUKE LUTHERAN CHURCH
X-ORIGINAL-URL:https://stlukesway.org
X-WR-CALDESC:Events for ST. LUKE LUTHERAN CHURCH
REFRESH-INTERVAL;VALUE=DURATION:PT1H
X-Robots-Tag:noindex
X-PUBLISHED-TTL:PT1H
BEGIN:VTIMEZONE
TZID:America/New_York
BEGIN:DAYLIGHT
TZOFFSETFROM:-0500
TZOFFSETTO:-0400
TZNAME:EDT
DTSTART:20280312T070000
END:DAYLIGHT
BEGIN:STANDARD
TZOFFSETFROM:-0400
TZOFFSETTO:-0500
TZNAME:EST
DTSTART:20281105T060000
END:STANDARD
BEGIN:DAYLIGHT
TZOFFSETFROM:-0500
TZOFFSETTO:-0400
TZNAME:EDT
DTSTART:20290311T070000
END:DAYLIGHT
BEGIN:STANDARD
TZOFFSETFROM:-0400
TZOFFSETTO:-0500
TZNAME:EST
DTSTART:20291104T060000
END:STANDARD
BEGIN:DAYLIGHT
TZOFFSETFROM:-0500
TZOFFSETTO:-0400
TZNAME:EDT
DTSTART:20300310T070000
END:DAYLIGHT
BEGIN:STANDARD
TZOFFSETFROM:-0400
TZOFFSETTO:-0500
TZNAME:EST
DTSTART:20301103T060000
END:STANDARD
END:VTIMEZONE
BEGIN:VEVENT
DTSTART;TZID=America/New_York:20290109T180000
DTEND;TZID=America/New_York:20290109T190000
DTSTAMP:20260423T211253
CREATED:20240425T235959Z
LAST-MODIFIED:20251016T141858Z
UID:10001951-1862676000-1862679600@stlukesway.org
SUMMARY:Adult Choir Practice
DESCRIPTION:Our Adult Choir Practice is weekly
URL:https://stlukesway.org/event/adult-choir-practice-3/2029-01-09/
END:VEVENT
BEGIN:VEVENT
DTSTART;TZID=America/New_York:20290109T190000
DTEND;TZID=America/New_York:20290109T200000
DTSTAMP:20260423T211253
CREATED:20240426T000122Z
LAST-MODIFIED:20251016T141857Z
UID:10002212-1862679600-1862683200@stlukesway.org
SUMMARY:Bell Choir Practice
DESCRIPTION:Every week Bell Choir Practice is held at 7 pm
URL:https://stlukesway.org/event/bell-choir-practice-3/2029-01-09/
END:VEVENT
END:VCALENDAR