BEGIN:VCALENDAR
VERSION:2.0
PRODID:-//ST. LUKE LUTHERAN CHURCH - ECPv6.15.20//NONSGML v1.0//EN
CALSCALE:GREGORIAN
METHOD:PUBLISH
X-WR-CALNAME:ST. LUKE LUTHERAN CHURCH
X-ORIGINAL-URL:https://stlukesway.org
X-WR-CALDESC:Events for ST. LUKE LUTHERAN CHURCH
REFRESH-INTERVAL;VALUE=DURATION:PT1H
X-Robots-Tag:noindex
X-PUBLISHED-TTL:PT1H
BEGIN:VTIMEZONE
TZID:America/New_York
BEGIN:DAYLIGHT
TZOFFSETFROM:-0500
TZOFFSETTO:-0400
TZNAME:EDT
DTSTART:20240310T070000
END:DAYLIGHT
BEGIN:STANDARD
TZOFFSETFROM:-0400
TZOFFSETTO:-0500
TZNAME:EST
DTSTART:20241103T060000
END:STANDARD
BEGIN:DAYLIGHT
TZOFFSETFROM:-0500
TZOFFSETTO:-0400
TZNAME:EDT
DTSTART:20250309T070000
END:DAYLIGHT
BEGIN:STANDARD
TZOFFSETFROM:-0400
TZOFFSETTO:-0500
TZNAME:EST
DTSTART:20251102T060000
END:STANDARD
BEGIN:DAYLIGHT
TZOFFSETFROM:-0500
TZOFFSETTO:-0400
TZNAME:EDT
DTSTART:20260308T070000
END:DAYLIGHT
BEGIN:STANDARD
TZOFFSETFROM:-0400
TZOFFSETTO:-0500
TZNAME:EST
DTSTART:20261101T060000
END:STANDARD
END:VTIMEZONE
BEGIN:VEVENT
DTSTART;TZID=America/New_York:20250924T080000
DTEND;TZID=America/New_York:20250924T190000
DTSTAMP:20260421T172223
CREATED:20240619T235901Z
LAST-MODIFIED:20240619T235901Z
UID:10002607-1758700800-1758740400@stlukesway.org
SUMMARY:Sight & Sound Yearly Trip
DESCRIPTION:
URL:https://stlukesway.org/event/sight-sound-yearly-trip-2/
END:VEVENT
BEGIN:VEVENT
DTSTART;TZID=America/New_York:20250924T183000
DTEND;TZID=America/New_York:20250924T200000
DTSTAMP:20260421T172223
CREATED:20240425T235823Z
LAST-MODIFIED:20251016T141858Z
UID:10001518-1758738600-1758744000@stlukesway.org
SUMMARY:Magnified Melodies
DESCRIPTION:Magnified Melodies meet weekly for practice
URL:https://stlukesway.org/event/magnified-melodies-3/2025-09-24/
END:VEVENT
END:VCALENDAR